BEGIN:VCALENDAR
VERSION:2.0
PRODID:-//OmniMagnetCalendar//EN
BEGIN:VEVENT
DTSTAMP:20190625T195740Z
STATUS:CONFIRMED
UID:chicago.illiniclub.org572
DTSTART:20251206T191500Z
DTEND:20251206T210000Z
LOCATION:Feed My Starving Children, 740 Wiley Farm Ct, Schaumburg, IL, 60173, United States,
SUMMARY:The Holidays are for Giving – Be a Part of the Chicago Illini Community Service Project on Saturda
DESCRIPTION:
BEGIN:VALARM
TRIGGER:-PT15M
ACTION:DISPLAY
END:VALARM
TRANSP:OPAQUE
END:VEVENT
END:VCALENDAR
