BEGIN:VCALENDAR
VERSION:2.0
PRODID:-//OmniMagnetCalendar//EN
BEGIN:VEVENT
DTSTAMP:20190625T195740Z
STATUS:CONFIRMED
UID:chicago.illiniclub.org571
DTSTART:20251119T230000Z
DTEND:20251120T010000Z
LOCATION:Ranalli's, 1326 W. Madison Street, Chicago, IL, 60607, USA,
SUMMARY:Illinois v. Alabama Pregame at Ranalli’s on Wednesday, Nov. 19
DESCRIPTION:
BEGIN:VALARM
TRIGGER:-PT15M
ACTION:DISPLAY
END:VALARM
TRANSP:OPAQUE
END:VEVENT
END:VCALENDAR
