BEGIN:VCALENDAR
VERSION:2.0
PRODID:-//OmniMagnetCalendar//EN
BEGIN:VEVENT
DTSTAMP:20190625T195740Z
STATUS:CONFIRMED
UID:chicago.illiniclub.org569
DTSTART:20250510T191750Z
DTEND:20250731T191757Z
LOCATION:
SUMMARY:Chicago Illini Club at the Chicago Fire vs. New York Red Bulls - July 26
DESCRIPTION:Ticket pack that includes a sweet Illini-Chicago Fire scarf
BEGIN:VALARM
TRIGGER:-PT15M
ACTION:DISPLAY
END:VALARM
TRANSP:OPAQUE
END:VEVENT
END:VCALENDAR
